BEGIN:VCALENDAR
VERSION:2.0
PRODID:-//Musikschule Piestingtal - ECPv5.9.1//NONSGML v1.0//EN
CALSCALE:GREGORIAN
METHOD:PUBLISH
X-WR-CALNAME:Musikschule Piestingtal
X-ORIGINAL-URL:https://www.musikschule-piestingtal.at
X-WR-CALDESC:Veranstaltungen für Musikschule Piestingtal
BEGIN:VTIMEZONE
TZID:Europe/Vienna
BEGIN:DAYLIGHT
TZOFFSETFROM:+0100
TZOFFSETTO:+0200
TZNAME:CEST
DTSTART:20230326T010000
END:DAYLIGHT
BEGIN:STANDARD
TZOFFSETFROM:+0200
TZOFFSETTO:+0100
TZNAME:CET
DTSTART:20231029T010000
END:STANDARD
END:VTIMEZONE
BEGIN:VEVENT
DTSTART;TZID=Europe/Vienna:20231122T180000
DTEND;TZID=Europe/Vienna:20231122T180000
DTSTAMP:20260425T122915
CREATED:20231114T093722Z
LAST-MODIFIED:20231121T102322Z
UID:2874-1700676000-1700676000@www.musikschule-piestingtal.at
SUMMARY:Vorspielabend in Markt Piesting
DESCRIPTION:Herzliche Einladung zum gemischten Vorspielabend in Markt Piesting.\nWir freuen uns auf Ihr Kommen!
URL:https://www.musikschule-piestingtal.at/event/vorspielabend-in-markt-piesting-13/
LOCATION:Musikschule Markt Piesting\, Bahngasse 1\, Markt Piesting\, 2753
ATTACH;FMTTYPE=image/jpeg:https://www.musikschule-piestingtal.at/wp-content/uploads/2023/11/VA-22.11.23-Piesting.jpg
END:VEVENT
END:VCALENDAR