BEGIN:VCALENDAR
VERSION:2.0
PRODID:-//Musikschule Piestingtal - ECPv5.9.1//NONSGML v1.0//EN
CALSCALE:GREGORIAN
METHOD:PUBLISH
X-WR-CALNAME:Musikschule Piestingtal
X-ORIGINAL-URL:https://www.musikschule-piestingtal.at
X-WR-CALDESC:Veranstaltungen für Musikschule Piestingtal
BEGIN:VTIMEZONE
TZID:Europe/Vienna
BEGIN:DAYLIGHT
TZOFFSETFROM:+0100
TZOFFSETTO:+0200
TZNAME:CEST
DTSTART:20230326T010000
END:DAYLIGHT
BEGIN:STANDARD
TZOFFSETFROM:+0200
TZOFFSETTO:+0100
TZNAME:CET
DTSTART:20231029T010000
END:STANDARD
END:VTIMEZONE
BEGIN:VEVENT
DTSTART;TZID=Europe/Vienna:20231121T183000
DTEND;TZID=Europe/Vienna:20231121T183000
DTSTAMP:20260425T140630
CREATED:20231114T093617Z
LAST-MODIFIED:20231121T102405Z
UID:2872-1700591400-1700591400@www.musikschule-piestingtal.at
SUMMARY:Vorspielabend in Pernitz
DESCRIPTION:Herzliche Einladung zum gemischten Vorspielabend in Pernitz.\nWir freuen uns auf Ihr Kommen!
URL:https://www.musikschule-piestingtal.at/event/vorspielabend-in-pernitz-8/
LOCATION:Musikerheim Pernitz\, Peter Roseggergasse 18\, Pernitz\, 2763
ATTACH;FMTTYPE=image/jpeg:https://www.musikschule-piestingtal.at/wp-content/uploads/2023/11/VA-21.11.23.-Pernitz.jpg
END:VEVENT
END:VCALENDAR